BEGIN:VCALENDAR
VERSION:2.0
PRODID:-//The Freedom Formula - Freedom Leaders Wanted - ECPv5.3.2.1//NONSGML v1.0//EN
CALSCALE:GREGORIAN
METHOD:PUBLISH
X-WR-CALNAME:The Freedom Formula - Freedom Leaders Wanted
X-ORIGINAL-URL:https://learnthefreedomformula.com
X-WR-CALDESC:Events for The Freedom Formula - Freedom Leaders Wanted
BEGIN:VTIMEZONE
TZID:America/New_York
BEGIN:DAYLIGHT
TZOFFSETFROM:-0500
TZOFFSETTO:-0400
TZNAME:EDT
DTSTART:20210314T070000
END:DAYLIGHT
BEGIN:STANDARD
TZOFFSETFROM:-0400
TZOFFSETTO:-0500
TZNAME:EST
DTSTART:20211107T060000
END:STANDARD
END:VTIMEZONE
BEGIN:VEVENT
DTSTART;TZID=America/New_York:20210112T190000
DTEND;TZID=America/New_York:20210112T210000
DTSTAMP:20260421T083351
CREATED:20201222T202046Z
LAST-MODIFIED:20201227T214447Z
UID:201-1610478000-1610485200@learnthefreedomformula.com
SUMMARY:The Practical Blueprint to Your Empowered Reality [LEVEL 1] - Nick Breau
DESCRIPTION:The Practical Blueprint to Your Empowered Reality [LEVEL 1]\nIn this seminar\, the focus is on teaching you the true path to living an empowered and abundant reality. You’ll learn what it takes to tune into your power as a creator of reality and you’ll be given the tools needed to shift the aspects of yourself that has been holding you back. \nThis level 1 seminar is broken down into four 60-90 minute calls. \nTopics covered in this seminar include:\n\nThe fundamentals of how we create our reality.\nHow to develop a strong connection with your intuition and inner guidance.\nThe path to achieving effortless alignment.\nHow to audit your attraction point and identify your dominant conscious and subconscious blocks.\nHow to effectively deal with the fears and negative emotions holding you back.\nThe Belief Tree Process – A powerful process you can use to work through the blocks you’ve identified.\nHow to stop allowing the people or circumstances in your life from lowering your vibe or negatively impacting how you feel.\nHow to successfully move forward with purpose intent down the path you’re here to live.\n\nCall Schedule:\nCall 1 – Tuesday\, Jan 12th @ 7pm Eastern time. \nCall 2 – Tuesday\, Jan 19th @ 7pm Eastern time \nCall 3 – Tuesday\, Jan 26th @ 7pm Eastern time. \nCall 4 – Tuesday\, Feb 2nd @ 7pm Eastern time \nCost: \n395$ USD (total fee for full access to all calls + recordings) \nRegistration: \nClick to register for this event.
URL:https://learnthefreedomformula.com/event/the-practical-blueprint-to-your-empowered-reality-level-1-nick-breau/
LOCATION:Online
CATEGORIES:Freedom Formula Seminar,Level 1 - The Blueprint To Your Empowered Reality
ATTACH;FMTTYPE=image/png:https://learnthefreedomformula.com/wp-content/uploads/2020/12/FFFLevel1.png
END:VEVENT
END:VCALENDAR