BEGIN:VCALENDAR
VERSION:2.0
PRODID:-//The Freedom Formula - Freedom Leaders Wanted - ECPv5.3.2.1//NONSGML v1.0//EN
CALSCALE:GREGORIAN
METHOD:PUBLISH
X-WR-CALNAME:The Freedom Formula - Freedom Leaders Wanted
X-ORIGINAL-URL:https://learnthefreedomformula.com
X-WR-CALDESC:Events for The Freedom Formula - Freedom Leaders Wanted
BEGIN:VTIMEZONE
TZID:America/New_York
BEGIN:DAYLIGHT
TZOFFSETFROM:-0500
TZOFFSETTO:-0400
TZNAME:EDT
DTSTART:20210314T070000
END:DAYLIGHT
BEGIN:STANDARD
TZOFFSETFROM:-0400
TZOFFSETTO:-0500
TZNAME:EST
DTSTART:20211107T060000
END:STANDARD
END:VTIMEZONE
BEGIN:VEVENT
DTSTART;TZID=America/New_York:20210429T150000
DTEND;TZID=America/New_York:20210429T170000
DTSTAMP:20260421T052831
CREATED:20201214T233552Z
LAST-MODIFIED:20201214T234153Z
UID:92-1619708400-1619715600@learnthefreedomformula.com
SUMMARY:Spirit and Spirits - Cindy O'Donnell
DESCRIPTION:During our Spirits with Spirit live calls Cindy will connect with spirit and bring forth answers to your questions from the non-physical with the help of her guide\, Melody.\nCall Access Link: Click here to join the call
URL:https://learnthefreedomformula.com/event/spirit-and-spirits-cindy-odonnell-6/
LOCATION:Online
CATEGORIES:Power Manifesting Collective Live Call
ATTACH;FMTTYPE=image/png:https://learnthefreedomformula.com/wp-content/uploads/2020/12/Cindy-Reveal-1-300x251-0S5SzN.tmp_.png
END:VEVENT
END:VCALENDAR