BEGIN:VCALENDAR
VERSION:2.0
PRODID:-//The Freedom Formula - Freedom Leaders Wanted - ECPv5.3.2.1//NONSGML v1.0//EN
CALSCALE:GREGORIAN
METHOD:PUBLISH
X-WR-CALNAME:The Freedom Formula - Freedom Leaders Wanted
X-ORIGINAL-URL:https://learnthefreedomformula.com
X-WR-CALDESC:Events for The Freedom Formula - Freedom Leaders Wanted
BEGIN:VTIMEZONE
TZID:America/New_York
BEGIN:DAYLIGHT
TZOFFSETFROM:-0500
TZOFFSETTO:-0400
TZNAME:EDT
DTSTART:20210314T070000
END:DAYLIGHT
BEGIN:STANDARD
TZOFFSETFROM:-0400
TZOFFSETTO:-0500
TZNAME:EST
DTSTART:20211107T060000
END:STANDARD
END:VTIMEZONE
BEGIN:VEVENT
DTSTART;TZID=America/New_York:20210303T150000
DTEND;TZID=America/New_York:20210303T170000
DTSTAMP:20260421T044634
CREATED:20201215T003640Z
LAST-MODIFIED:20201215T020150Z
UID:110-1614783600-1614790800@learnthefreedomformula.com
SUMMARY:In-Joy With Wyella - Anik Gallant
DESCRIPTION:In these channeled interactions\, Anik will connect with spirit guide Wyella and bring forth the answers to your most exciting questions.\nCall Access Link: Click here to join the call
URL:https://learnthefreedomformula.com/event/in-joy-with-wyella-anik-gallant-3/
LOCATION:Online
CATEGORIES:Power Manifesting Collective Live Call
ATTACH;FMTTYPE=image/png:https://learnthefreedomformula.com/wp-content/uploads/2020/12/Anik-Reveal-2-e1607975294140-1.png
END:VEVENT
END:VCALENDAR