BEGIN:VCALENDAR
VERSION:2.0
PRODID:-//The Freedom Formula - Freedom Leaders Wanted - ECPv5.3.2.1//NONSGML v1.0//EN
CALSCALE:GREGORIAN
METHOD:PUBLISH
X-WR-CALNAME:The Freedom Formula - Freedom Leaders Wanted
X-ORIGINAL-URL:https://learnthefreedomformula.com
X-WR-CALDESC:Events for The Freedom Formula - Freedom Leaders Wanted
BEGIN:VTIMEZONE
TZID:America/New_York
BEGIN:DAYLIGHT
TZOFFSETFROM:-0500
TZOFFSETTO:-0400
TZNAME:EDT
DTSTART:20210314T070000
END:DAYLIGHT
BEGIN:STANDARD
TZOFFSETFROM:-0400
TZOFFSETTO:-0500
TZNAME:EST
DTSTART:20211107T060000
END:STANDARD
END:VTIMEZONE
BEGIN:VEVENT
DTSTART;TZID=America/New_York:20210417T110000
DTEND;TZID=America/New_York:20210417T130000
DTSTAMP:20260421T052939
CREATED:20201215T011142Z
LAST-MODIFIED:20201215T011311Z
UID:140-1618657200-1618664400@learnthefreedomformula.com
SUMMARY:Breathe In Your Magic - Carol King
DESCRIPTION:Join Carol King on a breathwork journey of de-intellectualization. In these hour long sessions you’ll use your breath to drop out of your mind and into your heart with the aid of guided visualization\, music\, silence and poetry. \nCall Access Link: Click here to join the call
URL:https://learnthefreedomformula.com/event/breathe-in-your-magic-carol-king-5/
LOCATION:Online
ATTACH;FMTTYPE=image/png:https://learnthefreedomformula.com/wp-content/uploads/2020/12/Carol-Reveal-2-e1607976618449-ap1q34.tmp_.png
END:VEVENT
END:VCALENDAR